BEGIN:VCALENDAR
VERSION:2.0
PRODID:-//My Calendar//http://www.joedolson.com//v3.1.18//EN
METHOD:PUBLISH
CALSCALE:GREGORIAN
X-WR-CALNAME:WALK
X-PUBLISHED-TTL:PT24H
REFRESH-INTERVAL;VALUE=DURATION:PT24H
X-WR-CALDESC:Events from WALK
BEGIN:VEVENT
UID:14-9
LOCATION:Abject Gallery, Bamburgh House Market Street East  NEWCASTLE UPON TYNE  NE1 6BH
SUMMARY:Wordsworth and Basho: Walking Poets exhibition and launch event, Newcastle 17th September
DTSTAMP:20160917T103000
ORGANIZER;CN=Mike Admin:MAILTO:garyjamesbooth@gmail.com
DTSTART;TZID=Europe/London:20160917T103000
DTEND;TZID=Europe/London:20160923T150000
URL;VALUE=URI:https://www.walk.uk.net/my-calendar/
DESCRIPTION:Launch Event and Exhibition at Abject Gallery, Newcastle upon TyneThe launch event of the prestigious exhibition taking place at Kakimori Bunko, Itami Japan will be mirrored by a special event held simultaneously in Newcastle, England.Rebecca Whitcombe, MA Curating student from the University of Sunderland and Fine Art students from Northumbria University Tom Cunningham, Mia Rawlinson and Jenny Wheatley have curated the show.  They have gathered audio and video material recorded by artists during the creative process - some of it broadcast live using the phone app 'Periscope' - and brought it together to allow exhibition visitors unique access to the dialogue that developed between Japanese and British participating artists, collaborative working and the creative process.   Also on display will be images of all the finished artwork being shown at Kakimori Bunko including the manuscripts by William and Dorothy Wordsworth and Matsuo Basho.  And, to listen to, sound pieces commissioned from Japanese composer Nobuya Monta and British artist Rob Strachan.The launch event at Abject Gallery will take place 10.30 am - 3 pm on Saturday 17th September.  The highlight of the event will be at a live broadcast guided tour at 11 am of the exhibition in Kakimori Bunko by its curator, Dr Mike Collier of WALK Research Group.  There will also be a participatory art activity for guests from 11.30 - 2 pm.  All welcome!The exhibition at Abject Gallery will continue on Sunday 18th September (12 - 5) with a drop-in art workshop 2 - 5 pm.  And then on display Monday 19th - Friday 23rd September ( 11 - 4).&nbsp;&nbsp;[caption id="attachment_1029" align="alignnone" width="300"] Esen Kaya, And Then My Hearth with Pleasure Fills - Mountain Path (Combination of Words from Wordsworth &amp; Basho), 2016, (detail). Photo ©: Colin Davison[/caption]&nbsp; 
CATEGORIES:Exhibitions
END:VEVENT
BEGIN:VEVENT
UID:13-8
LOCATION:The Witham Gallery The Witham Gallery 3 Horse Market Barnard Castle  DL12 8LY
SUMMARY:Walking to Wycliffe exhibition
DTSTAMP:20160521T100000
ORGANIZER;CN=admin:MAILTO:andy@web-dog.co.uk
DTSTART;TZID=Europe/London:20160521T100000
DTEND;TZID=Europe/London:20160521T160000
URL;VALUE=URI:https://www.walk.uk.net/walking-to-wycliffe-exhibition-barnard-castle-4th-21st-may/
DESCRIPTION: https://www.walk.uk.net/walking-to-wycliffe-exhibition-barnard-castle-4th-21st-may/
CATEGORIES:Exhibitions
END:VEVENT
BEGIN:VEVENT
UID:12-7
LOCATION:St Pauls Church Jarrow Church Bank  Jarrow  NE32 3DZ
SUMMARY:Short Meditative Walk: Reflecting on Journeys
DTSTAMP:20160522T143000
ORGANIZER;CN=admin:MAILTO:andy@web-dog.co.uk
DTSTART;TZID=Europe/London:20160522T143000
DTEND;TZID=Europe/London:20160522T153000
URL;VALUE=URI:https://www.walk.uk.net/short-spring-walk-and-meditative-walk-from-st-pauls-jarrow-sun-22nd-may/
DESCRIPTION:Explore the spring wildlife and landscape and take a ‘meditative journey’ through the world of Bede. https://www.walk.uk.net/short-spring-walk-and-meditative-walk-from-st-pauls-jarrow-sun-22nd-may/
CATEGORIES:Walks
END:VEVENT
BEGIN:VEVENT
UID:11-6
LOCATION:St Pauls Church Jarrow Church Bank  Jarrow  NE32 3DZ
SUMMARY:Short Spring walk: Spring Wildlife and Landscape
DTSTAMP:20160522T100000
ORGANIZER;CN=admin:MAILTO:andy@web-dog.co.uk
DTSTART;TZID=Europe/London:20160522T100000
DTEND;TZID=Europe/London:20160522T113000
URL;VALUE=URI:https://www.walk.uk.net/short-spring-walk-and-meditative-walk-from-st-pauls-jarrow-sun-22nd-may/
DESCRIPTION:Explore the spring wildlife and landscape and take a ‘meditative journey’ through the world of Bede. https://www.walk.uk.net/short-spring-walk-and-meditative-walk-from-st-pauls-jarrow-sun-22nd-may/
CATEGORIES:Walks
END:VEVENT
BEGIN:VEVENT
UID:10-5
LOCATION:Boldon Community Association New Road Boldon Colliery    NE35 9DS
SUMMARY:'Stringing Bedes' Heritage Evening, Boldon Community Centre, Tues 12th Jan, 7.30 pm
DTSTAMP:20160112T193000
ORGANIZER;CN=Mike Admin:MAILTO:garyjamesbooth@gmail.com
DTSTART;TZID=Europe/London:20160112T193000
DTEND;TZID=Europe/London:20160112T210000
URL;VALUE=URI:https://www.walk.uk.net/my-calendar/
DESCRIPTION:Come along to this FREE event at Boldon Community Association.  Learn more about Stringing Bedes: A Poetry and Print Pilgrimage.  This is a project which has celebrated the landscapes and life of the Venerable Bede.During summer 2015 the project co-ordinated a series of guided walks along Bede's Way, which passes along New Road, Boldon and this heritage event commemorates these walks.The evening will feature:Illustrated presentations about Bede,the walks, heritage and wildlifeReadings of poetry inspired by walking through Bede's landscapeDisplays and refreshments.The Sringing Bedes project is co-ordinated by the University of Sunderland's WALK research group assisted by Bede's World, South Tyneside Council and the Sunderland Cultural Partnership.  It is supported by the Heritage Lottery Fund. 
CATEGORIES:Exhibitions
END:VEVENT
BEGIN:VEVENT
UID:9-4
LOCATION:Whiteleas Community Centre Hogarth Avenue Sunderland  NE34 8HF
SUMMARY:Stringing Bedes Heritage Evening, Wednesday 11th November
DTSTAMP:20151111T193000
ORGANIZER;CN=Mike Admin:MAILTO:garyjamesbooth@gmail.com
DTSTART;TZID=Europe/London:20151111T193000
DTEND;TZID=Europe/London:20151111T210000
URL;VALUE=URI:https://www.walk.uk.net/my-calendar/
DESCRIPTION:FREE Heritage Evening comprising: illustrated presentations about Bed, heritage and wildlife, readings of poetry inspired by walking through Bede's landscape and displays and refreshments. 
CATEGORIES:Exhibitions
END:VEVENT
BEGIN:VEVENT
UID:8-3
LOCATION:Roker Methodist Church Roker Park Road Roker Sunderland  SR6 9PF
SUMMARY:Stringing Bedes Heritage Evening, Wednesday 21st October
DTSTAMP:20151021T193000
ORGANIZER;CN=Mike Admin:MAILTO:garyjamesbooth@gmail.com
DTSTART;TZID=Europe/London:20151021T193000
DTEND;TZID=Europe/London:20151021T210000
URL;VALUE=URI:https://www.walk.uk.net/my-calendar/
DESCRIPTION:&nbsp;STRINGING BEDES HERITAGE EVENING, Wed 21st October, 7.30 - 9 pmCome along to this FREE event and learn more about Stringing Bedes: A Poetry and Print Pilgrimage, which celebrates the landscapes and life of the Venerable Bede.During Summer 2015 the project coordinated a series of guided walks along Bede's Way and this event celebrates the work of these.The evening will feature:Illustrated presentations about Bede, art, heritage and wildlifeArt and readings of poetry inspired by walking through Bede's landscapeDisplays and refreshments.All welcome!The Stringing Bedes project is coordinated by the University of Sunderland's WALK research group assisted by Bede's World, South Tyneside Council and the Sunderland Cultural Partnership.  It is supported by the Heritage Lottery Fund. 
CATEGORIES:Exhibitions
END:VEVENT
BEGIN:VEVENT
UID:6-2
LOCATION:South Shields Community School Nevison Avenue Whiteleas South Shields  NE34 8BT
SUMMARY:Guided Walks 16 August
DTSTAMP:20150816T100000
ORGANIZER;CN=Mike Admin:MAILTO:garyjamesbooth@gmail.com
DTSTART;TZID=Europe/London:20150816T100000
DTEND;TZID=Europe/London:20150816T160000
URL;VALUE=URI:https://www.walk.uk.net/my-calendar/
DESCRIPTION:Free Guided Walks,St Paul's to Whiteleas, 15th AugWhiteleas to St Peter's Church, 16th AugThese walks explore the wildlife and heritage along the route of Bede's Way accompanied by poet, natural historian and artist.To find out more or to book a place email gleadees-stringbede@yahoo.co.uk&nbsp; 
CATEGORIES:Walks
END:VEVENT
BEGIN:VEVENT
UID:7-1
LOCATION:St. Paul's Church Church Bank  Jarrow,  NE32 3DZ
SUMMARY:Guided Walks
DTSTAMP:20150815T100000
ORGANIZER;CN=Mike Admin:MAILTO:garyjamesbooth@gmail.com
DTSTART;TZID=Europe/London:20150815T100000
DTEND;TZID=Europe/London:20150815T160000
URL;VALUE=URI:https://www.walk.uk.net/my-calendar/
DESCRIPTION:Free Guided Walks,St Paul's to Whiteleas, 15th AugWhiteleas to St Peter's Church, 16th AugThese walks explore the wildlife and heritage along the route of Bede's Way accompanied by poet, natural historian and artist.To find out more or to book a place email gleadees-stringbede@yahoo.co.uk&nbsp; 
CATEGORIES:Walks
END:VEVENT
END:VCALENDAR